BEGIN:VCALENDAR
VERSION:2.0
PRODID:-//wp-events-plugin.com//7.2.3//EN
BEGIN:VEVENT
UID:2047@kulturaktiv.org
DTSTART;TZID=Europe/Berlin;VALUE=DATE:20251130
DTEND;TZID=Europe/Berlin;VALUE=DATE:20260209
DTSTAMP:20260105T101922Z
URL:https://kulturaktiv.org/en/events/exhibition-ansprechbar-art-meets-enc
 ounter/
SUMMARY:“Ansprechbar” – Art meets encounter
DESCRIPTION:The exhibition presents striking portraits and creative objects
  created by participants. Each work of art tells an individual story and r
 eflects the experiences\, emotions\, and dreams of the people who particip
 ated in our project.\n\n"Ansprechbar" is more than just an exhibition—it
  is a space for dialogue and encounters. Be inspired by the creativity and
  courage of the artists who raise their voices and share their worlds.
ATTACH;FMTTYPE=image/jpeg:https://kulturaktiv.org/wp-content/uploads/2025/
 11/Slider-mobil-ANSPRECHBAR_4.jpg
CATEGORIES:Exhibition
LOCATION:JKS Passage (JugendKunstschule Dresden)\, Leutewitzer Ring 5\, Dre
 sden\, 01169\, Germany
X-APPLE-STRUCTURED-LOCATION;VALUE=URI;X-ADDRESS=Leutewitzer Ring 5\, Dresde
 n\, 01169\, Germany;X-APPLE-RADIUS=100;X-TITLE=JKS Passage (JugendKunstsch
 ule Dresden):geo:0,0
END:VEVENT
BEGIN:VTIMEZONE
TZID:Europe/Berlin
X-LIC-LOCATION:Europe/Berlin
BEGIN:STANDARD
DTSTART:20251026T020000
TZOFFSETFROM:+0200
TZOFFSETTO:+0100
TZNAME:CET
END:STANDARD
END:VTIMEZONE
END:VCALENDAR