BEGIN:VCALENDAR
VERSION:2.0
PRODID:-//wp-events-plugin.com//7.2.3//EN
BEGIN:VEVENT
UID:561@kulturaktiv.org
DTSTART;TZID=Europe/Berlin:20230214T200000
DTEND;TZID=Europe/Berlin:20230214T220000
DTSTAMP:20230321T102749Z
URL:https://kulturaktiv.org/en/events/peter-r-fischer-italy/
SUMMARY:Peter R. Fischer – Italy
DESCRIPTION:Winterreisen. 11 weeks. 11 lectures. At the beginning of the ye
 ar\, every week Tuesday in the Veränderbar will be a travel lecture. Prog
 ram overview\nThose who only look for certain things overlook many things\
 n(My) Italian Picture Tour - The Gargano Peninsula and Eight Days of High-
 Speed Circumnavigation of Sicily\nGoethe spent almost two years in Italy a
 nd wrote his "Italian Journey" only 25 years later. So much time is "not" 
 nowadays. So in just under four weeks in 2019 it went with numerous stops 
 in my rolling pension from Lake Garda to Sicily and via Assisi and Modena 
 back again. The focus this time was in the south.\n\nIn the merry month of
  May\, which often showed the cool shoulder with snow\, rain and gray skie
 s\, rarely postcard weather. Still\, there was plenty to see\, find\, do f
 or the camera and the stomach - sweet cherries until you drop.\n\nIt is no
 t a classic educational trip\, only a few glimpses for the big sights (who
 se images can be easily viewed on the Internet)\, but a constant drift thr
 ough many places\, busy\, cozy or lost places\, looking at the ground\, th
 e walls\, through openings\, over the fence\, on the landscape\, numerous 
 little things. Human "legacies."\n\nAn everyday casualness that invites th
 is evening to a journey of images across the "spur of the boot" - the Garg
 ano peninsula - and Sicily.\n\n&nbsp\;\n\n&nbsp\;\n\nIn cooperation with A
 rt der Kultur\n\n
ATTACH;FMTTYPE=image/jpeg:https://kulturaktiv.org/wp-content/uploads/2022/
 11/Winterreisen-2023_Vortragbild_italien.jpg
CATEGORIES:Lecture,Presentation
LOCATION:Veränderbar\, Görlitzer Str. 42 HH\, Dresden\, Deutschland\, 010
 99\, Germany
X-APPLE-STRUCTURED-LOCATION;VALUE=URI;X-ADDRESS=Görlitzer Str. 42 HH\, Dre
 sden\, Deutschland\, 01099\, Germany;X-APPLE-RADIUS=100;X-TITLE=Veränderb
 ar:geo:0,0
END:VEVENT
BEGIN:VTIMEZONE
TZID:Europe/Berlin
X-LIC-LOCATION:Europe/Berlin
BEGIN:STANDARD
DTSTART:20221030T020000
TZOFFSETFROM:+0200
TZOFFSETTO:+0100
TZNAME:CET
END:STANDARD
END:VTIMEZONE
END:VCALENDAR