BEGIN:VCALENDAR
VERSION:2.0
PRODID:-//wp-events-plugin.com//7.2.3//EN
BEGIN:VEVENT
UID:1773@kulturaktiv.org
DTSTART;TZID=Europe/Berlin:20250510T120000
DTEND;TZID=Europe/Berlin:20250510T170000
DTSTAMP:20250623T121208Z
URL:https://kulturaktiv.org/en/events/screen-printing-workshop-druckbar/
SUMMARY:Screen printing workshop “Druckbar”
DESCRIPTION:Screen printing workshop „Druckbar“\n\nAgainst each other -
  next to each other - with each other - for each other?\nWhat world do we 
 live in and what world do you want to live in? Language is the central mea
 ns of communication\, and in a democracy it is crucial that citizens can e
 xpress their opinions\, ideas and concerns. Pictures speak their own langu
 age. We invite you to make your experiences\, thoughts and wishes visible!
 \n\nIn our printing workshops\, you have the opportunity to get to know th
 e fascinating screen printing process and create your own individual langu
 age and image message. Whether you want to design posters or print T-shirt
 s and bags - you can get creative here!
ATTACH;FMTTYPE=image/jpeg:https://kulturaktiv.org/wp-content/uploads/2025/
 02/Druckbar_ANSPRECHBAR.jpg
CATEGORIES:Workshop
LOCATION:Erich-Kästner-Raum (Albertinum)\, Tzschirnerplatz 2\, Dresden\, 0
 1067\, Germany
X-APPLE-STRUCTURED-LOCATION;VALUE=URI;X-ADDRESS=Tzschirnerplatz 2\, Dresden
 \, 01067\, Germany;X-APPLE-RADIUS=100;X-TITLE=Erich-Kästner-Raum (Alberti
 num):geo:0,0
END:VEVENT
BEGIN:VTIMEZONE
TZID:Europe/Berlin
X-LIC-LOCATION:Europe/Berlin
BEGIN:DAYLIGHT
DTSTART:20250330T030000
TZOFFSETFROM:+0100
TZOFFSETTO:+0200
TZNAME:CEST
END:DAYLIGHT
END:VTIMEZONE
END:VCALENDAR