BEGIN:VCALENDAR
VERSION:2.0
PRODID:-//wp-events-plugin.com//7.2.3//EN
BEGIN:VEVENT
UID:1981@kulturaktiv.org
DTSTART;TZID=Europe/Berlin:20250919T150000
DTEND;TZID=Europe/Berlin:20250919T190000
DTSTAMP:20250916T083640Z
URL:https://kulturaktiv.org/en/events/stitch-by-stitch-word-by-word-at-nu-
 kiosk-2/
SUMMARY:Stitch by stitch... word by word at NU KIOSK
DESCRIPTION:Stitch by stitch... word by word at the International Gardens\n
 Embroidery is not only a textile art\, but also a language that speaks of 
 identity\, history and culture in different communities. Migration and exc
 hange have contributed to the development of embroidery. The arrival of mi
 grants from different parts of the world has enriched the techniques and s
 tyles. Influences from different cultures have meant that embroidery still
  plays an important role today.
ATTACH;FMTTYPE=image/jpeg:https://kulturaktiv.org/wp-content/uploads/2025/
 04/Stich-fuer-Stich.-Wort-fuer-Wort-scaled-e1743584640500.jpg
CATEGORIES:Workshop
LOCATION:Bolzplatz Hagebuttenweg Gorbitz\, Hagebuttenweg 16\, Dresden\, Sac
 hsen\, 01169\, Germany
X-APPLE-STRUCTURED-LOCATION;VALUE=URI;X-ADDRESS=Hagebuttenweg 16\, Dresden\
 , Sachsen\, 01169\, Germany;X-APPLE-RADIUS=100;X-TITLE=Bolzplatz Hagebutte
 nweg Gorbitz:geo:0,0
END:VEVENT
BEGIN:VTIMEZONE
TZID:Europe/Berlin
X-LIC-LOCATION:Europe/Berlin
BEGIN:DAYLIGHT
DTSTART:20250330T030000
TZOFFSETFROM:+0100
TZOFFSETTO:+0200
TZNAME:CEST
END:DAYLIGHT
END:VTIMEZONE
END:VCALENDAR