BEGIN:VCALENDAR
VERSION:2.0
PRODID:-//wp-events-plugin.com//7.2.3//EN
BEGIN:VEVENT
UID:1977@kulturaktiv.org
DTSTART;TZID=Europe/Berlin:20251011T150000
DTEND;TZID=Europe/Berlin:20251011T180000
DTSTAMP:20251007T093016Z
URL:https://kulturaktiv.org/en/events/stitch-by-stitch-word-by-word-at-zmo
 -jugend-e-v-4/
SUMMARY:Stitch by stitch ... word by word at ZMO-Jugend e.V.
DESCRIPTION:Stitch by stitch ... word by word at ZMO-Jugend e.V.\n\nEmbroid
 ery is not only a textile art\, but also a language that speaks of identit
 y\, history and culture in different communities. Migration and exchange h
 ave contributed to the development of embroidery. The arrival of migrants 
 from different parts of the world has enriched the techniques and styles. 
 Influences from different cultures have meant that embroidery still plays 
 an important role today.
ATTACH;FMTTYPE=image/jpeg:https://kulturaktiv.org/wp-content/uploads/2025/
 04/Stich-fuer-Stich.-Wort-fuer-Wort-scaled-e1743584640500.jpg
CATEGORIES:Workshop
LOCATION:ZMO-Jugend e.V.\, Kipsdorfer Str. 100\, 4. Etage\, Dresden\, Germa
 ny
X-APPLE-STRUCTURED-LOCATION;VALUE=URI;X-ADDRESS=Kipsdorfer Str. 100\, 4. Et
 age\, Dresden\, Germany;X-APPLE-RADIUS=100;X-TITLE=ZMO-Jugend e.V.:geo:0,0
END:VEVENT
BEGIN:VTIMEZONE
TZID:Europe/Berlin
X-LIC-LOCATION:Europe/Berlin
BEGIN:DAYLIGHT
DTSTART:20250330T030000
TZOFFSETFROM:+0100
TZOFFSETTO:+0200
TZNAME:CEST
END:DAYLIGHT
END:VTIMEZONE
END:VCALENDAR