BEGIN:VCALENDAR
VERSION:2.0
PRODID:-//wp-events-plugin.com//7.2.3//EN
BEGIN:VEVENT
UID:2023@kulturaktiv.org
DTSTART;TZID=Europe/Berlin:20251130T150000
DTEND;TZID=Europe/Berlin:20251130T170000
DTSTAMP:20251127T132814Z
URL:https://kulturaktiv.org/en/events/vernissage-ansprechbar-art-meets-enc
 ounter/
SUMMARY:Vernissage “Ansprechbar” – Art meets encounter
DESCRIPTION:The vernissage on November 30\, 2025\, from 15:00 to 17:00 will
  provide a lively start:\n\nGreetings from the project team\nInsight into 
 the artistic work of those involved\, complemented by a charity bazaar in 
 aid of Kultur Aktiv. With every contribution\, you will be supporting soci
 al and cultural projects that will continue to bring people together and e
 nable creative participation in 2026.\n\nMusic by\nMoriana Krause (flute) 
 & Klara Fabry (clarinet)\n\nDIY workshops\nDesign friendship bracelets wi
 th Nadine Wölk – perhaps an opportunity to show a neighbor or acquainta
 nce that the connection goes beyond a fleeting encounter.\nFavorite word a
 s calligraphy with Jamal – a personal gift that is sure to make Aunt Ger
 da's eyes light up under the Christmas tree.\nThe exhibition presents stri
 king portraits and creative objects created by participants. Each work of 
 art tells an individual story and reflects the experiences\, emotions\, an
 d dreams of the people who participated in our project.\n\n"Ansprechbar" i
 s more than just an exhibition—it is a space for dialogue and encounters
 . Be inspired by the creativity and courage of the artists who raise their
  voices and share their worlds.
ATTACH;FMTTYPE=image/jpeg:https://kulturaktiv.org/wp-content/uploads/2025/
 10/2024-11-24-Dresden-spricht-Abschlussfest-JKS-Passage-c-Matthias-Schuman
 n-33-scaled-e1763388217214.jpg
CATEGORIES:Exhibition
LOCATION:JKS Passage (JugendKunstschule Dresden)\, Leutewitzer Ring 5\, Dre
 sden\, 01169\, Germany
X-APPLE-STRUCTURED-LOCATION;VALUE=URI;X-ADDRESS=Leutewitzer Ring 5\, Dresde
 n\, 01169\, Germany;X-APPLE-RADIUS=100;X-TITLE=JKS Passage (JugendKunstsch
 ule Dresden):geo:0,0
END:VEVENT
BEGIN:VTIMEZONE
TZID:Europe/Berlin
X-LIC-LOCATION:Europe/Berlin
BEGIN:STANDARD
DTSTART:20251026T020000
TZOFFSETFROM:+0200
TZOFFSETTO:+0100
TZNAME:CET
END:STANDARD
END:VTIMEZONE
END:VCALENDAR