BEGIN:VCALENDAR
VERSION:2.0
PRODID:-//wp-events-plugin.com//7.2.3//EN
BEGIN:VEVENT
UID:2035@kulturaktiv.org
DTSTART;TZID=Europe/Berlin:20251024T093000
DTEND;TZID=Europe/Berlin:20251024T113000
DTSTAMP:20251203T101841Z
URL:https://kulturaktiv.org/en/events/writing-workshop-wunderbar-ansprechb
 ar/
SUMMARY:Writing workshop “Wunderbar ANSPRECHBAR”
DESCRIPTION:"Wunderbar ANSPRECHBAR"\n\nBe part of it! Whether in language a
 nd neighborhood cafés or at district festivals - our writing and language
  workshops offer space for encounters where the focus is on listening and 
 being heard.
ATTACH;FMTTYPE=image/jpeg:https://kulturaktiv.org/wp-content/uploads/2025/
 02/Wunderbar_ANSPRECHBAR.jpg
CATEGORIES:Workshop
LOCATION:Familienzentrum Altstadt (Familie(n)leben e.V.)\,  St. Petersburge
 r Straße 12\, Dresden\, 01069\, Germany
X-APPLE-STRUCTURED-LOCATION;VALUE=URI;X-ADDRESS= St. Petersburger Straße 1
 2\, Dresden\, 01069\, Germany;X-APPLE-RADIUS=100;X-TITLE=Familienzentrum A
 ltstadt (Familie(n)leben e.V.):geo:0,0
END:VEVENT
BEGIN:VTIMEZONE
TZID:Europe/Berlin
X-LIC-LOCATION:Europe/Berlin
BEGIN:DAYLIGHT
DTSTART:20250330T030000
TZOFFSETFROM:+0100
TZOFFSETTO:+0200
TZNAME:CEST
END:DAYLIGHT
END:VTIMEZONE
END:VCALENDAR