BEGIN:VCALENDAR
VERSION:2.0
PRODID:-//wp-events-plugin.com//7.2.3//EN
BEGIN:VEVENT
UID:2060@kulturaktiv.org
DTSTART;TZID=Europe/Berlin:20251202T180000
DTEND;TZID=Europe/Berlin:20251202T184500
DTSTAMP:20251127T134724Z
URL:https://kulturaktiv.org/events/advenster-2025-tuerchen-nr-2/
SUMMARY:Advenster – Türchen Nr. 2
DESCRIPTION:Die Offene Galerie öffnet Türchen Nr. 2 im Advenster\n\nYuliy
 a Firsova lädt euch herzlich ein zur Erzählrunde für die gesamte Famili
 e. Hier treffen sich große und kleine Geschichtenerzähler in einer magis
 chen und inspirierenden Atmosphäre\, um Märchen\, Mythen und Geschichten
  aus aller Welt zu teilen.\n\nWintermärchen: „Der Handschuh“ – Ein 
 bezauberndes Figurentheater für die Kleinen!\n\nEin Volksmärchen\, das s
 ich z.B. in der Ukraine und in Russland erzählt wird: Ein alter Mann geht
  im verschneiten Winterwald spazieren. Dabei fällt ihm sein Handschuh aus
  der Tasche\, was er zunächst nicht bemerkt. Eine Maus richtet sich in de
 m verlorenen Fäustling ein warmes Zuhause ein. Doch bald ziehen immer meh
 r Tiere ein\, bis der Besitzer des Handschuhs auf die Suche nach seinem ve
 rlorenen Schatz geht…
ATTACH;FMTTYPE=image/jpeg:https://kulturaktiv.org/wp-content/uploads/2025/
 11/Design-ohne-Titel.jpg
CATEGORIES:Begegnungstreffen
LOCATION:Galerie nEUROPA\, Bautzner Straße 49\, Dresden\, 01099\, Deutschl
 and
GEO:51.063211;13.755891
X-APPLE-STRUCTURED-LOCATION;VALUE=URI;X-ADDRESS=Bautzner Straße 49\, Dresd
 en\, 01099\, Deutschland;X-APPLE-RADIUS=100;X-TITLE=Galerie nEUROPA:geo:51
 .063211,13.755891
END:VEVENT
BEGIN:VTIMEZONE
TZID:Europe/Berlin
X-LIC-LOCATION:Europe/Berlin
BEGIN:STANDARD
DTSTART:20251026T020000
TZOFFSETFROM:+0200
TZOFFSETTO:+0100
TZNAME:CET
END:STANDARD
END:VTIMEZONE
END:VCALENDAR