BEGIN:VCALENDAR
VERSION:2.0
PRODID:-//wp-events-plugin.com//7.2.3//EN
BEGIN:VEVENT
UID:1899@kulturaktiv.org
DTSTART;TZID=Europe/Berlin:20250805T143000
DTEND;TZID=Europe/Berlin:20250805T173000
DTSTAMP:20250723T055233Z
URL:https://kulturaktiv.org/events/atlas-pop-up-ausstellung-workshop/
SUMMARY:Pop-up-Ausstellung & Workshop
DESCRIPTION:Pop-up-Ausstellung & Gravity strike Workshop\n\nBesucht Atlas w
 ährend seiner Pop-up-Ausstellung am Neustädter Markt. Ihr seid auch herz
 lich zu seinen spielerischen Gravity-Strike-Workshops eingeladen\, die in 
 diesem Rahmen stattfinden werden. Nehmt außerdem an einer Diskussion übe
 r das gesamte öko-aktivistische Tour-Projekt teil\, das in der Galerie nE
 UROPA stattfindet.
ATTACH;FMTTYPE=image/jpeg:https://kulturaktiv.org/wp-content/uploads/2025/
 07/Event-Dresden-Diry-Loecher-–-Atlas-Cargo-Bike-Tour-2025_3.jpg
CATEGORIES:Ausstellung,Workshop
LOCATION:Neustädter Markt\, Neustädter Markt\, Dresden\, 01097\, Deutschl
 and
X-APPLE-STRUCTURED-LOCATION;VALUE=URI;X-ADDRESS=Neustädter Markt\, Dresden
 \, 01097\, Deutschland;X-APPLE-RADIUS=100;X-TITLE=Neustädter Markt:geo:0,
 0
END:VEVENT
BEGIN:VTIMEZONE
TZID:Europe/Berlin
X-LIC-LOCATION:Europe/Berlin
BEGIN:DAYLIGHT
DTSTART:20250330T030000
TZOFFSETFROM:+0100
TZOFFSETTO:+0200
TZNAME:CEST
END:DAYLIGHT
END:VTIMEZONE
END:VCALENDAR