BEGIN:VCALENDAR
VERSION:2.0
PRODID:-//wp-events-plugin.com//7.2.3//EN
BEGIN:VEVENT
UID:152@kulturaktiv.org
DTSTART;TZID=Europe/Kaliningrad:20181005T190000
DTEND;TZID=Europe/Kaliningrad:20181005T213000
DTSTAMP:20210430T104720Z
URL:https://kulturaktiv.org/events/bobrowski-katharsis-kaliningrad/
SUMMARY:Johannes Bobrowski - Dichter der Sarmatischen Landschaft
DESCRIPTION:Ausstellung der Arbeiten des Projekts Johannes Bobrowski - Dich
 ter der Sarmatischen Landschaft in den Räumlichkeiten des Buchklubs Katha
 rsis. Umrahmt wird die Eröffnung von einer Klangperformance auf Steinflö
 ten des Künstlers Matthias Jackisch.
ATTACH;FMTTYPE=image/jpeg:https://kulturaktiv.org/wp-content/uploads/2018/
 10/Bobrowski-Katharsis.jpg
CATEGORIES:Ausstellung
LOCATION:Buchklub Katharsis\, Ulitsa General-Leytenanta Ozerova\, 18\, Kali
 ningrad\, Russische Föderation
X-APPLE-STRUCTURED-LOCATION;VALUE=URI;X-ADDRESS=Ulitsa General-Leytenanta O
 zerova\, 18\, Kaliningrad\, Russische Föderation;X-APPLE-RADIUS=100;X-TIT
 LE=Buchklub Katharsis:geo:0,0
END:VEVENT
BEGIN:VTIMEZONE
TZID:Europe/Kaliningrad
X-LIC-LOCATION:Europe/Kaliningrad
BEGIN:STANDARD
DTSTART:20171005T190000
TZOFFSETFROM:+0200
TZOFFSETTO:+0200
TZNAME:EET
END:STANDARD
END:VTIMEZONE
END:VCALENDAR