BEGIN:VCALENDAR
VERSION:2.0
PRODID:-//wp-events-plugin.com//7.2.3//EN
BEGIN:VEVENT
UID:1995@kulturaktiv.org
DTSTART;TZID=Europe/Berlin:20251004T110000
DTEND;TZID=Europe/Berlin:20251004T150000
DTSTAMP:20251007T092843Z
URL:https://kulturaktiv.org/events/kalligrafie-workshop-beim-nu-kiosk-3/
SUMMARY:Kalligrafie-Workshop beim NU KIOSK
DESCRIPTION:Workshop „Kalligrafie – Die Kunst der schönen Schrift“\n
 Entdecken Sie die faszinierende Welt der Kalligrafie in unserem kreativen 
 Workshop! Dieser Kurs richtet sich an alle\, die ihre Schreibfähigkeiten 
 verfeinern und die Schönheit der Schriftkunst erlernen möchten – ganz 
 gleich\, ob Sie Anfänger oder bereits mit Kalligrafie vertraut sind.
ATTACH;FMTTYPE=image/jpeg:https://kulturaktiv.org/wp-content/uploads/2025/
 09/Workshop_Kalligrafie_PXL_20250719_105520940.jpg
CATEGORIES:Workshop
LOCATION:JKS Passage (JugendKunstschule Dresden)\, Leutewitzer Ring 5\, Dre
 sden\, 01169\, Deutschland
X-APPLE-STRUCTURED-LOCATION;VALUE=URI;X-ADDRESS=Leutewitzer Ring 5\, Dresde
 n\, 01169\, Deutschland;X-APPLE-RADIUS=100;X-TITLE=JKS Passage (JugendKuns
 tschule Dresden):geo:0,0
END:VEVENT
BEGIN:VTIMEZONE
TZID:Europe/Berlin
X-LIC-LOCATION:Europe/Berlin
BEGIN:DAYLIGHT
DTSTART:20250330T030000
TZOFFSETFROM:+0100
TZOFFSETTO:+0200
TZNAME:CEST
END:DAYLIGHT
END:VTIMEZONE
END:VCALENDAR