BEGIN:VCALENDAR
VERSION:2.0
PRODID:-//wp-events-plugin.com//7.2.3//EN
BEGIN:VEVENT
UID:2062@kulturaktiv.org
DTSTART;TZID=Europe/Berlin:20251121T093000
DTEND;TZID=Europe/Berlin:20251121T113000
DTSTAMP:20251203T101701Z
URL:https://kulturaktiv.org/events/stich-fuer-stich-wort-fuer-wort-beim-fa
 milienzentrum-altstadt/
SUMMARY:Stich für Stich … Wort für Wort beim Familienzentrum Altstadt
DESCRIPTION:Stich für Stich ... Wort für Wort beim Familienzentrum Altsta
 dt\n\nDie Stickerei ist nicht nur eine Textilkunst\, sondern auch eine Spr
 ache\, die von Identität\, Geschichte und Kultur in verschiedenen Gemeins
 chaften spricht. Migration und Austausch haben zur Entwicklung der Sticker
 ei beigetragen. Die Ankunft von Migrant:innen aus verschiedenen Teilen der
  Welt hat die Techniken und Stile bereichert. Einflüsse aus verschiedenen
  Kulturen haben dazu geführt\, dass die Stickerei auch heute noch eine wi
 chtige Rolle spielt.
ATTACH;FMTTYPE=image/jpeg:https://kulturaktiv.org/wp-content/uploads/2025/
 04/Stich-fuer-Stich.-Wort-fuer-Wort-scaled-e1743584640500.jpg
CATEGORIES:Workshop
LOCATION:Familienzentrum Altstadt (Familie(n)leben e.V.)\,  St. Petersburge
 r Straße 12\, Dresden\, 01069\, Deutschland
X-APPLE-STRUCTURED-LOCATION;VALUE=URI;X-ADDRESS= St. Petersburger Straße 1
 2\, Dresden\, 01069\, Deutschland;X-APPLE-RADIUS=100;X-TITLE=Familienzentr
 um Altstadt (Familie(n)leben e.V.):geo:0,0
END:VEVENT
BEGIN:VTIMEZONE
TZID:Europe/Berlin
X-LIC-LOCATION:Europe/Berlin
BEGIN:STANDARD
DTSTART:20251026T020000
TZOFFSETFROM:+0200
TZOFFSETTO:+0100
TZNAME:CET
END:STANDARD
END:VTIMEZONE
END:VCALENDAR