BEGIN:VCALENDAR
VERSION:2.0
PRODID:-//wp-events-plugin.com//7.2.3//EN
BEGIN:VEVENT
UID:2180@kulturaktiv.org
DTSTART;TZID=Europe/Berlin:20260924T000000
DTEND;TZID=Europe/Berlin:20260927T000000
DTSTAMP:20260420T143145Z
URL:https://kulturaktiv.org/events/vereinsreise-litomerice/
SUMMARY:Vereinsreise Litoměřice
DESCRIPTION:Unsere Vereinsreisen bieten allen Reisewilligen die Möglichkei
 t\, jene Länder und Orte kennenzulernen\, die im Fokus unserer Projektarb
 eit stehen. Neben Vereinsmitgliedern\, Mitarbeitern\, Freunden und Familie
 n stehen die Fahrten grundsätzlich allen interessierten Personen offen.\n
 \nAuf\, auf nach Böhmen!\n\nLitoměřice ist eine der historischen Perlen
  in Nordböhmen. Die liebevoll erhaltene Altstadt mit ihren farbenfrohen B
 ürgerhäusern\, verwinkelten Gassen\, gemütlichen Cafés und dem großz
 ügigen Marktplatz lädt zum Schlendern ein. Hier trifft Geschichte auf Le
 bensart und an jeder Ecke gibt es etwas Neues zu entdecken.\n\nAußerdem w
 ollen wir noch mehr faszinierende Orte in der Umgebung erkunden\, zum Beis
 piel die Gedenkstätte Terezín. Ein weiteres Highlight ist das Weinlesefe
 st in Velké Žernoseky im nordböhmischen Weinbaugebiet an der Elbe.
ATTACH;FMTTYPE=image/jpeg:https://kulturaktiv.org/wp-content/uploads/2026/
 04/Veranstaltungsbild-kulturaktiv.org-Vereinsreise-Litomerice_1.jpg
CATEGORIES:Reise
LOCATION:Litoměřice\, Litoměřice\, Litoměřice\, Tschechische Republik
X-APPLE-STRUCTURED-LOCATION;VALUE=URI;X-ADDRESS=Litoměřice\, Litoměřice
 \, Tschechische Republik;X-APPLE-RADIUS=100;X-TITLE=Litoměřice:geo:0,0
END:VEVENT
BEGIN:VTIMEZONE
TZID:Europe/Berlin
X-LIC-LOCATION:Europe/Berlin
BEGIN:DAYLIGHT
DTSTART:20260329T030000
TZOFFSETFROM:+0100
TZOFFSETTO:+0200
TZNAME:CEST
END:DAYLIGHT
END:VTIMEZONE
END:VCALENDAR