BEGIN:VCALENDAR
VERSION:2.0
PRODID:-//wp-events-plugin.com//7.2.3//EN
BEGIN:VEVENT
UID:540@kulturaktiv.org
DTSTART;TZID=Europe/Berlin:20221116T103000
DTEND;TZID=Europe/Berlin:20221116T160000
DTSTAMP:20221115T081505Z
URL:https://kulturaktiv.org/events/workshop-advent/
SUMMARY:Workshop Advent
DESCRIPTION:Advent\, Advent\, ein Lichtlein brennt... · Der erste Advent s
 teht vor der Tür und wir möchten auch unsere Freund:innen und Nachbar:in
 nen aus nah und fern an unsere Tradition des weihnachtlichen Gestecks hera
 nführen.
ATTACH;FMTTYPE=image/jpeg:https://kulturaktiv.org/wp-content/uploads/2022/
 11/2022_11_16_WS_Strehlen-DCZ.jpg
CATEGORIES:Workshop
LOCATION:Chinesisch-Deutsches Zentrum\, Altstrehlen 5\, Dresden\, 01219\, D
 eutschland
X-APPLE-STRUCTURED-LOCATION;VALUE=URI;X-ADDRESS=Altstrehlen 5\, Dresden\, 0
 1219\, Deutschland;X-APPLE-RADIUS=100;X-TITLE=Chinesisch-Deutsches Zentrum
 :geo:0,0
END:VEVENT
BEGIN:VTIMEZONE
TZID:Europe/Berlin
X-LIC-LOCATION:Europe/Berlin
BEGIN:STANDARD
DTSTART:20221030T020000
TZOFFSETFROM:+0200
TZOFFSETTO:+0100
TZNAME:CET
END:STANDARD
END:VTIMEZONE
END:VCALENDAR