BEGIN:VCALENDAR
VERSION:2.0
PRODID:-//wp-events-plugin.com//7.2.3//EN
BEGIN:VEVENT
UID:1573@kulturaktiv.org
DTSTART;TZID=Europe/Berlin:20251003T150000
DTEND;TZID=Europe/Berlin:20251003T180000
DTSTAMP:20251007T092843Z
URL:https://kulturaktiv.org/events/workshop-aquarell-malerei-loose-waterco
 lor-flora/
SUMMARY:Workshop Aquarell-Malerei – "Loose Watercolor Flora"
DESCRIPTION:Entdecke die faszinierende Welt der Aquarell-Malerei mit unsere
 r Illustratorin Mahsa! In diesem Workshop lernst du die besondere Technik 
 des „Loose Watercolor Flora“ kennen\, bei der es darum geht\, mit weni
 gen\, lockeren Pinselstrichen das Wesentliche eines Motivs einzufangen. Di
 eser Workshop ist eine meditative Erfahrung\, die für alle geeignet ist 
 – ob Anfänger oder Profi. Lass deiner Kreativität freien Lauf und hab 
 vor allem Spaß!
ATTACH;FMTTYPE=image/jpeg:https://kulturaktiv.org/wp-content/uploads/2024/
 08/Aquarell-Workshop-instagram_1.jpg
CATEGORIES:Workshop
LOCATION:Galerie nEUROPA\, Bautzner Straße 49\, Dresden\, 01099\, Deutschl
 and
GEO:51.063211;13.755891
X-APPLE-STRUCTURED-LOCATION;VALUE=URI;X-ADDRESS=Bautzner Straße 49\, Dresd
 en\, 01099\, Deutschland;X-APPLE-RADIUS=100;X-TITLE=Galerie nEUROPA:geo:51
 .063211,13.755891
END:VEVENT
BEGIN:VTIMEZONE
TZID:Europe/Berlin
X-LIC-LOCATION:Europe/Berlin
BEGIN:DAYLIGHT
DTSTART:20250330T030000
TZOFFSETFROM:+0100
TZOFFSETTO:+0200
TZNAME:CEST
END:DAYLIGHT
END:VTIMEZONE
END:VCALENDAR